BEGIN:VCALENDAR
VERSION:2.0
PRODID:-//HPCA - ECPv6.14.2//NONSGML v1.0//EN
CALSCALE:GREGORIAN
METHOD:PUBLISH
X-WR-CALNAME:HPCA
X-ORIGINAL-URL:https://www.hpca.uk
X-WR-CALDESC:Events for HPCA
REFRESH-INTERVAL;VALUE=DURATION:PT1H
X-Robots-Tag:noindex
X-PUBLISHED-TTL:PT1H
BEGIN:VTIMEZONE
TZID:Europe/London
BEGIN:DAYLIGHT
TZOFFSETFROM:+0000
TZOFFSETTO:+0100
TZNAME:BST
DTSTART:20250330T010000
END:DAYLIGHT
BEGIN:STANDARD
TZOFFSETFROM:+0100
TZOFFSETTO:+0000
TZNAME:GMT
DTSTART:20251026T010000
END:STANDARD
END:VTIMEZONE
BEGIN:VEVENT
DTSTART;TZID=Europe/London:20250321T093000
DTEND;TZID=Europe/London:20250321T103000
DTSTAMP:20260421T112117
CREATED:20250227T130856Z
LAST-MODIFIED:20250227T142619Z
UID:818-1742549400-1742553000@www.hpca.uk
SUMMARY:FREE: HPCA London Regional Network Meeting
DESCRIPTION:A regional network that brings healthcare project and change professionals together. \nRegister here
URL:https://www.hpca.uk/event/free-hpca-london-regional-network-meeting/
LOCATION:Virtual
CATEGORIES:Regional Network Meetings
ATTACH;FMTTYPE=image/png:https://www.hpca.uk/wp-content/uploads/2025/02/Screenshot-2025-02-27-130645.png
END:VEVENT
END:VCALENDAR